BEGIN:VCALENDAR
VERSION:2.0
PRODID:-//hacksw/handcal//NONSGML v1.0//EN
BEGIN:VEVENT
SUMMARY:Tournoi OPEN DES CLOCHES ET DES CLOCHETTES
UID:dac753d7-5d58-45d0-ab03-a616b00afb12
DTSTART:20260501T123000Z
DTEND:20260501T220000Z
LOCATION:Localisation   
CATEGORIES:Sportif
STATUS:
DESCRIPTION:<p>Le Club sera OUVERT LE VENDREDI 1<sup>er</sup> MAI. A
 cette occasion, nous vous invitons a participer a un tournoi
 convivial, agremente de sympathiques surprises et qui sera suivi
 d’un aperitif.<span>   </span></p>
 
 <p>Tarif : 6,50€. Merci de
 vous inscrire avec anticipation afin de faciliter la tache a notre
 equipe d’organisateurs...</p>
 
 <p>Nous vous esperons
 nombreux !</p>
 
 <p>Vous pouvez vous inscrire directement sur le site
 de la FFB grace au lien
 suivant:</p>
 
 <p>                                                                                  <a
 href="https://www.ffbridge.fr/" target="_blank" rel="noreferrer
 noopener"> Je m'inscris et je paie</a></p>
 
 <p> </p>
 
 <p>Nous vous
 conseillons de privilegier cette procedure, mais vous pouvez aussi
 vous inscrire directement en laissant un sms sur le portable du
 club:</p>
 
 <p><u><span style="color:#3498db;">07 44 72 82
 52</span></u></p>
URL;VALUE=URI:https://www.bcbb64.com/evenements/2026/05/01/tournoi-open-des-cloches-et-des-clochettes-2383218
END:VEVENT
END:VCALENDAR
