BEGIN:VCALENDAR
VERSION:2.0
PRODID:-//hacksw/handcal//NONSGML v1.0//EN
BEGIN:VEVENT
SUMMARY:PATTON CIDRERIE
UID:3f37253e-858e-47d8-a8a8-ea823b84e7b4
DTSTART:20260506T163000Z
DTEND:20260506T220000Z
LOCATION:Localisation   
CATEGORIES:Sportif
STATUS:
DESCRIPTION:<p><span>Patton pour tous les niveaux avec diner
 « CIDRERIE » a la mi-temps . </span></p>
 
 <p><span>Constituez
 vos equipes de 4 ou si vous etes une paire isolee, appelez Franck qui
 vous trouvera des coequipiers.</span></p>
 
 <p><span>Tarif tournoi +
 diner (boissons comprises) : 25€</span></p>
 
 <p><span>Inscriptions
 OBLIGATOIRES : sur la feuille affichee au club, par SMS sur le
 portable du Club (07-44-72-82-52) ou aupres de
 Franck (06-61-68-44-88).</span></p>
URL;VALUE=URI:https://www.bcbb64.com/evenements/2026/05/06/patton-cidrerie-2443515
END:VEVENT
END:VCALENDAR
